BEGIN:VCALENDAR
VERSION:2.0
PRODID:-//Bermuda Run Garden Club - ECPv4.2//NONSGML v1.0//EN
CALSCALE:GREGORIAN
METHOD:PUBLISH
X-WR-CALNAME:Bermuda Run Garden Club
X-ORIGINAL-URL:http://bermudarungardenclub.org
X-WR-CALDESC:Events for Bermuda Run Garden Club
BEGIN:VEVENT
DTSTART;TZID=America/New_York:20221201T080000
DTEND;TZID=America/New_York:20221231T170000
DTSTAMP:20260424T162451
CREATED:20220110T232607
LAST-MODIFIED:20220110T232607
UID:4356-1669881600-1672506000@bermudarungardenclub.org
SUMMARY:Happy Birthday December Members
DESCRIPTION:Dec. 5. Sue Wittaker\n\nDec. 8  Alice Bostrom\n\nDec. 10 Betty Sheek\n\nDec. 20  Fran Shelton\n\nDec. 25  Carol Quinn\n\nDec. 27 Luanne Taylor and Marie Laborowski
URL:http://bermudarungardenclub.org/calendar/happy-birthday-december-members-2
END:VEVENT
END:VCALENDAR