BEGIN:VCALENDAR
VERSION:2.0
PRODID:-//Bermuda Run Garden Club - ECPv4.2//NONSGML v1.0//EN
CALSCALE:GREGORIAN
METHOD:PUBLISH
X-WR-CALNAME:Bermuda Run Garden Club
X-ORIGINAL-URL:http://bermudarungardenclub.org
X-WR-CALDESC:Events for Bermuda Run Garden Club
BEGIN:VEVENT
DTSTART;TZID=America/New_York:20230101T080000
DTEND;TZID=America/New_York:20230131T175900
DTSTAMP:20260424T145807
CREATED:20220324T155207
LAST-MODIFIED:20220927T203410
UID:4386-1672560000-1675187940@bermudarungardenclub.org
SUMMARY:Happy Bday January BRGC Members
DESCRIPTION:January 12:  Helen Boon\n\n \n\nJanuary 14:  Julie Penfold\n\n \n\nJanuary 20:  Betsy Cochrane\n\n \n\nJanuary 27:  Jamey Johnson
URL:http://bermudarungardenclub.org/calendar/happy-bday-january-brgc-members
END:VEVENT
END:VCALENDAR