BEGIN:VCALENDAR
VERSION:2.0
PRODID:-//Bermuda Run Garden Club - ECPv4.2//NONSGML v1.0//EN
CALSCALE:GREGORIAN
METHOD:PUBLISH
X-WR-CALNAME:Bermuda Run Garden Club
X-ORIGINAL-URL:http://bermudarungardenclub.org
X-WR-CALDESC:Events for Bermuda Run Garden Club
BEGIN:VEVENT
DTSTART;TZID=America/New_York:20230201T080000
DTEND;TZID=America/New_York:20230228T175900
DTSTAMP:20260424T120756
CREATED:20220324T155753
LAST-MODIFIED:20220927T202917
UID:4387-1675238400-1677607140@bermudarungardenclub.org
SUMMARY:Happy Bday February BRGC Members
DESCRIPTION:February 1:  Carolyn Beam\n\n \n\nFebruary 16:  Shelby Nichols
URL:http://bermudarungardenclub.org/calendar/happy-bday-february-brgc-members
END:VEVENT
END:VCALENDAR