BEGIN:VCALENDAR
VERSION:2.0
PRODID:-//Bermuda Run Garden Club - ECPv4.2//NONSGML v1.0//EN
CALSCALE:GREGORIAN
METHOD:PUBLISH
X-WR-CALNAME:Bermuda Run Garden Club
X-ORIGINAL-URL:http://bermudarungardenclub.org
X-WR-CALDESC:Events for Bermuda Run Garden Club
BEGIN:VEVENT
DTSTART;TZID=America/New_York:20230228T080000
DTEND;TZID=America/New_York:20230419T170000
DTSTAMP:20260424T090914
CREATED:20230228T153252
LAST-MODIFIED:20230228T153252
UID:4421-1677571200-1681923600@bermudarungardenclub.org
SUMMARY:GERANIUM SALE!!! Order from any BRGC Member By March 28
DESCRIPTION:Order and Pre-pay before March 28th.\n\nPick Up: Wednesday\, April 19\, noon-3pm\n\nParking lot near Bermuda Run Country Club\n\nChoose from Red\, Hot Pink\, White\, Salmon\, and Violet (Deep Fuchsia)\n\n10" Pots are $20.00.  6 1/2" Pots are $12.00\n\nContact any Bermuda Run Garden Club Member or Linda Ernst at 336.940.6705 or lernst2@triad.rr.com
URL:http://bermudarungardenclub.org/calendar/geranium-sale-order-from-any-brgc-member-by-march-28
END:VEVENT
BEGIN:VEVENT
DTSTART;TZID=America/New_York:20230415T090000
DTEND;TZID=America/New_York:20230415T120000
DTSTAMP:20260424T090914
CREATED:20230225T160751
LAST-MODIFIED:20230225T160751
UID:4418-1681549200-1681560000@bermudarungardenclub.org
SUMMARY:SHREDDING Event April 15 ( 9 - Noon )
DESCRIPTION:Bermuda Run Garden Club Shredding Event from 9-Noon\n\n$5.00 cash per bag of documents to be shredded\n\nLocation: Town Center off of Hwy 158
URL:http://bermudarungardenclub.org/calendar/shredding-event-april-15-9-noon
LOCATION:120 Kinderton Blvd.\, Bermuda Run\, NC\, 27006\, United States
END:VEVENT
END:VCALENDAR