BEGIN:VCALENDAR
VERSION:2.0
PRODID:-//Bermuda Run Garden Club - ECPv4.2//NONSGML v1.0//EN
CALSCALE:GREGORIAN
METHOD:PUBLISH
X-WR-CALNAME:Bermuda Run Garden Club
X-ORIGINAL-URL:http://bermudarungardenclub.org
X-WR-CALDESC:Events for Bermuda Run Garden Club
BEGIN:VEVENT
DTSTART;TZID=America/New_York:20230906T120000
DTEND;TZID=America/New_York:20230906T150000
DTSTAMP:20260424T012520
CREATED:20230803T201544
LAST-MODIFIED:20230803T201544
UID:4438-1694001600-1694012400@bermudarungardenclub.org
SUMMARY:39th Anniversary Luncheon 12pm
DESCRIPTION:Luncheon along with speaker Jimmy Speas on Orchid Care Tips
URL:http://bermudarungardenclub.org/calendar/39th-anniversary-luncheon-12pm
END:VEVENT
END:VCALENDAR