BEGIN:VCALENDAR
VERSION:2.0
PRODID:-//Bermuda Run Garden Club - ECPv4.2//NONSGML v1.0//EN
CALSCALE:GREGORIAN
METHOD:PUBLISH
X-WR-CALNAME:Bermuda Run Garden Club
X-ORIGINAL-URL:http://bermudarungardenclub.org
X-WR-CALDESC:Events for Bermuda Run Garden Club
BEGIN:VEVENT
DTSTART;TZID=America/New_York:20230912T130000
DTEND;TZID=America/New_York:20230912T140000
DTSTAMP:20260424T012710
CREATED:20230803T202754
LAST-MODIFIED:20230803T202754
UID:4440-1694523600-1694527200@bermudarungardenclub.org
SUMMARY:Senior Center Meals on Wheels Bouquets
DESCRIPTION:
URL:http://bermudarungardenclub.org/calendar/senior-center-meals-on-wheels-bouquets
END:VEVENT
END:VCALENDAR