BEGIN:VCALENDAR
VERSION:2.0
PRODID:-//Bermuda Run Garden Club - ECPv4.2//NONSGML v1.0//EN
CALSCALE:GREGORIAN
METHOD:PUBLISH
X-WR-CALNAME:Bermuda Run Garden Club
X-ORIGINAL-URL:http://bermudarungardenclub.org
X-WR-CALDESC:Events for Bermuda Run Garden Club
BEGIN:VEVENT
DTSTART;VALUE=DATE:20230930
DTEND;VALUE=DATE:20230930
DTSTAMP:20260424T012514
CREATED:20230803
LAST-MODIFIED:20230803
UID:4439-1696032000-1696118399@bermudarungardenclub.org
SUMMARY:BRGC Members'  Bdays
DESCRIPTION:Peggy Schuppert: Sept 9\n\nHolly Loke:  Sept 30
URL:http://bermudarungardenclub.org/calendar/brgc-members-bdays
END:VEVENT
END:VCALENDAR