BEGIN:VCALENDAR
VERSION:2.0
PRODID:-//Bermuda Run Garden Club - ECPv4.2//NONSGML v1.0//EN
CALSCALE:GREGORIAN
METHOD:PUBLISH
X-WR-CALNAME:Bermuda Run Garden Club
X-ORIGINAL-URL:http://bermudarungardenclub.org
X-WR-CALDESC:Events for Bermuda Run Garden Club
BEGIN:VEVENT
DTSTART;TZID=America/New_York:20240301T080000
DTEND;TZID=America/New_York:20240331T170000
DTSTAMP:20260423T161014
CREATED:20240118T011058
LAST-MODIFIED:20240131T030456
UID:4470-1709280000-1711904400@bermudarungardenclub.org
SUMMARY:BRGC March Birthday's
DESCRIPTION:HAPPY BIRTHDAY!!!!\n\nDiana Sykes - March 31
URL:http://bermudarungardenclub.org/calendar/brgc-march-bdays
END:VEVENT
END:VCALENDAR