BEGIN:VCALENDAR
VERSION:2.0
PRODID:-//Bermuda Run Garden Club - ECPv4.2//NONSGML v1.0//EN
CALSCALE:GREGORIAN
METHOD:PUBLISH
X-WR-CALNAME:Bermuda Run Garden Club
X-ORIGINAL-URL:http://bermudarungardenclub.org
X-WR-CALDESC:Events for Bermuda Run Garden Club
BEGIN:VEVENT
DTSTART;VALUE=DATE:20240430
DTEND;VALUE=DATE:20240430
DTSTAMP:20260423T123823
CREATED:20240411
LAST-MODIFIED:20240411
UID:4485-1714435200-1714521599@bermudarungardenclub.org
SUMMARY:Happy April Birthday BRGC Members!!!!
DESCRIPTION: \n\nApril 10. -  Donna DuToit\n\nApril 14  -  PJ Gjuerra\n\nApril 26. -  Cathy Zeitvogel
URL:http://bermudarungardenclub.org/calendar/happy-april-birthday-brgc-members
END:VEVENT
END:VCALENDAR