BEGIN:VCALENDAR
VERSION:2.0
PRODID:-//Bermuda Run Garden Club - ECPv4.2//NONSGML v1.0//EN
CALSCALE:GREGORIAN
METHOD:PUBLISH
X-WR-CALNAME:Bermuda Run Garden Club
X-ORIGINAL-URL:http://bermudarungardenclub.org
X-WR-CALDESC:Events for Bermuda Run Garden Club
BEGIN:VEVENT
DTSTART;TZID=America/New_York:20240605T183000
DTEND;TZID=America/New_York:20240605T183000
DTSTAMP:20260422T001531
CREATED:20240504T231040
LAST-MODIFIED:20240504T231040
UID:4491-1717612200-1717612200@bermudarungardenclub.org
SUMMARY:BRGC Annual Picnic
DESCRIPTION:Tanglewood Park Shelter #3
URL:http://bermudarungardenclub.org/calendar/brgc-annual-picnic
LOCATION:4061 Clemmons Rd \, Clemmons\, NC\, 27012\, United States
END:VEVENT
END:VCALENDAR