BEGIN:VCALENDAR
VERSION:2.0
PRODID:-//Bermuda Run Garden Club - ECPv4.2//NONSGML v1.0//EN
CALSCALE:GREGORIAN
METHOD:PUBLISH
X-WR-CALNAME:Bermuda Run Garden Club
X-ORIGINAL-URL:http://bermudarungardenclub.org
X-WR-CALDESC:Events for Bermuda Run Garden Club
BEGIN:VEVENT
DTSTART;TZID=America/New_York:20241002T130000
DTEND;TZID=America/New_York:20241002T150000
DTSTAMP:20260421T174420
CREATED:20240704T183953
LAST-MODIFIED:20240704T183953
UID:4496-1727874000-1727881200@bermudarungardenclub.org
SUMMARY:BRGC Meeting
DESCRIPTION:Davie County Cooperative Extension Agent\, Susan Hawkins\, will lead our program titled "Fall Seeding and Propagation Facts and Fun".
URL:http://bermudarungardenclub.org/calendar/brgc-meeting-2
LOCATION:324 Bermuda Run Drive\, Bermuda Run\, NC\, 27006\, United States
END:VEVENT
END:VCALENDAR