BEGIN:VCALENDAR
VERSION:2.0
PRODID:-//Bermuda Run Garden Club - ECPv4.2//NONSGML v1.0//EN
CALSCALE:GREGORIAN
METHOD:PUBLISH
X-WR-CALNAME:Bermuda Run Garden Club
X-ORIGINAL-URL:http://bermudarungardenclub.org
X-WR-CALDESC:Events for Bermuda Run Garden Club
BEGIN:VEVENT
DTSTART;TZID=America/New_York:20190731T030000
DTEND;TZID=America/New_York:20190731T160000
DTSTAMP:20260420T100759
CREATED:20190512T204729
LAST-MODIFIED:20190512T204729
UID:4100-1564542000-1564588800@bermudarungardenclub.org
SUMMARY:Board Meeting: Home of Bonnie Rockaway
DESCRIPTION:
URL:http://bermudarungardenclub.org/calendar/board-meeting-home-of-bonnie-rockaway
END:VEVENT
END:VCALENDAR