BEGIN:VCALENDAR
VERSION:2.0
PRODID:-//Bermuda Run Garden Club - ECPv4.2//NONSGML v1.0//EN
CALSCALE:GREGORIAN
METHOD:PUBLISH
X-WR-CALNAME:Bermuda Run Garden Club
X-ORIGINAL-URL:http://bermudarungardenclub.org
X-WR-CALDESC:Events for Bermuda Run Garden Club
BEGIN:VEVENT
DTSTART;TZID=America/New_York:20191030T150000
DTEND;TZID=America/New_York:20191030T150000
DTSTAMP:20260420T084120
CREATED:20191010T171327
LAST-MODIFIED:20191010T171327
UID:4153-1572447600-1572447600@bermudarungardenclub.org
SUMMARY:Board Meeting: Peggy Shupert's home
DESCRIPTION:
URL:http://bermudarungardenclub.org/calendar/board-meeting-peggy-shuperts-home
END:VEVENT
END:VCALENDAR