BEGIN:VCALENDAR
VERSION:2.0
PRODID:-//Bermuda Run Garden Club - ECPv4.2//NONSGML v1.0//EN
CALSCALE:GREGORIAN
METHOD:PUBLISH
X-WR-CALNAME:Bermuda Run Garden Club
X-ORIGINAL-URL:http://bermudarungardenclub.org
X-WR-CALDESC:Events for Bermuda Run Garden Club
BEGIN:VEVENT
DTSTART;TZID=America/New_York:20170201T120000
DTEND;TZID=America/New_York:20170201T170000
DTSTAMP:20260421T103803
CREATED:20161229T211453
LAST-MODIFIED:20161229T211453
UID:3540-1485950400-1485968400@bermudarungardenclub.org
SUMMARY:Club Luncheon 12pm
DESCRIPTION:Club luncheon and installation of officers.  Speakers: "The Plant Doctors".  Meeting Hostesses: Linda Ernst and Ann Cornwell.  Storehouse: Rice and Boxes of Instant Potatoes
URL:http://bermudarungardenclub.org/calendar/club-luncheon-12pm
LOCATION:324 Bermuda Run Drive\, Bermuda Run\, NC\, 27006\, United States
END:VEVENT
END:VCALENDAR