BEGIN:VCALENDAR
VERSION:2.0
PRODID:-//Bermuda Run Garden Club - ECPv4.2//NONSGML v1.0//EN
CALSCALE:GREGORIAN
METHOD:PUBLISH
X-WR-CALNAME:Bermuda Run Garden Club
X-ORIGINAL-URL:http://bermudarungardenclub.org
X-WR-CALDESC:Events for Bermuda Run Garden Club
BEGIN:VEVENT
DTSTART;TZID=America/New_York:20160907T120000
DTEND;TZID=America/New_York:20160907T140000
DTSTAMP:20260420T083738
CREATED:20160502T195331
LAST-MODIFIED:20160502T195331
UID:3205-1473249600-1473256800@bermudarungardenclub.org
SUMMARY:Club Meeting\, Noon Luncheon at Club
DESCRIPTION:Speaker: Linda Abplanalp on African Violets\n\nMeeting Hostessess: Pat Mignacca & Beth Grose\n\nStorehouse: Bring Boxed cereal and Oatmeal
URL:http://bermudarungardenclub.org/calendar/club-meeting-noon-luncheon-at-club
LOCATION:324 Bermuda Run Drive\, Bermuda Run\, NC\, 27006\, United States
END:VEVENT
END:VCALENDAR