BEGIN:VCALENDAR
VERSION:2.0
PRODID:-//Bermuda Run Garden Club - ECPv4.2//NONSGML v1.0//EN
CALSCALE:GREGORIAN
METHOD:PUBLISH
X-WR-CALNAME:Bermuda Run Garden Club
X-ORIGINAL-URL:http://bermudarungardenclub.org
X-WR-CALDESC:Events for Bermuda Run Garden Club
BEGIN:VEVENT
DTSTART;TZID=America/New_York:20211001T080000
DTEND;TZID=America/New_York:20211031T170000
DTSTAMP:20260420T100300
CREATED:20210704T204518
LAST-MODIFIED:20210704T204518
UID:4335-1633075200-1635699600@bermudarungardenclub.org
SUMMARY:Happy Birthday BRGC Members - October
DESCRIPTION:October 5 -  Amy Bridges\n\nOctober 12 -  Susan Griffith\n\nOctober 20 -  Linda Groover
URL:http://bermudarungardenclub.org/calendar/happy-birthday-brgc-members-october
END:VEVENT
END:VCALENDAR