BEGIN:VCALENDAR
VERSION:2.0
PRODID:-//Bermuda Run Garden Club - ECPv4.2//NONSGML v1.0//EN
CALSCALE:GREGORIAN
METHOD:PUBLISH
X-WR-CALNAME:Bermuda Run Garden Club
X-ORIGINAL-URL:http://bermudarungardenclub.org
X-WR-CALDESC:Events for Bermuda Run Garden Club
BEGIN:VEVENT
DTSTART;TZID=America/New_York:20201201T080000
DTEND;TZID=America/New_York:20201231T170000
DTSTAMP:20260421T084906
CREATED:20201203T205135
LAST-MODIFIED:20201203T205331
UID:4299-1606809600-1609434000@bermudarungardenclub.org
SUMMARY:Happy Birthday December Members
DESCRIPTION:Petra McLean  Dec 1\n\nSue Whittaker  Dec 5\n\nAlice Bostrom  Dec 8\n\nBetty Sheek   Dec 10\n\nFran Shelton   Dec 20\n\nCarol Quinn   Dec 25\n\nLuanne Taylor  Dec 27\n\nMarie Laborowski   Dec 27
URL:http://bermudarungardenclub.org/calendar/happy-birthday-december-members
END:VEVENT
END:VCALENDAR