BEGIN:VCALENDAR
VERSION:2.0
PRODID:-//Bermuda Run Garden Club - ECPv4.2//NONSGML v1.0//EN
CALSCALE:GREGORIAN
METHOD:PUBLISH
X-WR-CALNAME:Bermuda Run Garden Club
X-ORIGINAL-URL:http://bermudarungardenclub.org
X-WR-CALDESC:Events for Bermuda Run Garden Club
BEGIN:VEVENT
DTSTART;VALUE=DATE:20161209
DTEND;VALUE=DATE:20161209
DTSTAMP:20260420T084257
CREATED:20161102
LAST-MODIFIED:20161102
UID:3472-1481241600-1481327999@bermudarungardenclub.org
SUMMARY:Martha Morgan
DESCRIPTION:
URL:http://bermudarungardenclub.org/calendar/martha-morgan
END:VEVENT
END:VCALENDAR