BEGIN:VCALENDAR
VERSION:2.0
PRODID:-//Bermuda Run Garden Club - ECPv4.2//NONSGML v1.0//EN
CALSCALE:GREGORIAN
METHOD:PUBLISH
X-WR-CALNAME:Bermuda Run Garden Club
X-ORIGINAL-URL:http://bermudarungardenclub.org
X-WR-CALDESC:Events for Bermuda Run Garden Club
BEGIN:VEVENT
DTSTART;TZID=America/New_York:20191013T080000
DTEND;TZID=America/New_York:20191019T170000
DTSTAMP:20260420T084229
CREATED:20190824T211000
LAST-MODIFIED:20190824T211000
UID:4146-1570953600-1571504400@bermudarungardenclub.org
SUMMARY:PO Plants: Donna DuToit
DESCRIPTION:
URL:http://bermudarungardenclub.org/calendar/po-plants-donna-dutoit
END:VEVENT
END:VCALENDAR